BEGIN:VCALENDAR
VERSION:2.0
PRODID:-//eventon.com NONSGML v1.0//EN
BEGIN:VEVENT
UID:69e737dc16910
DTSTAMP:20260421T043956
DTSTART:20201023T110000Z
DTEND:20201023T123000Z
LOCATION:Via Zoom 
SUMMARY:MidiMAG - Comment négocier un bail commercial ou industriel
DESCRIPTION: [vc_row][vc_column][vc_single_image image=&#8221;23318&#8243; img_size=&#8221;full&#8221;][vc_separator color=&#8221;custom&#8221; accent_color=&#8221;#dd3333&#8243;][vc_column_text css=&#8221;.vc_custom_1600911706058{margin-top: -15px !important;}&#8221;] Comment négocier un bail commercial ou industriel [/vc_column_text][vc_separator color=&#8221;custom&#8221; accent_color=&#8221;#dd3333&#8243; css=&#8221;.vc_custom_1600911677855{margin-top: -25px !important;}&#8221;][/vc_column][/vc_row][vc_row][vc_column width=&#8221;1/2&#8243;][vc_column_text] 23 octobre &#8211; de 11h00 à 12h30 Prix membre: GRATUIT Prix non-membre: 20$ Événement virtuel sur ZOOM [/vc_column_text][vc_single_image image=&#8221;23305&#8243; img_size=&#8221;89&#215;20&#8243; css=&#8221;.vc_custom_1600972959844{margin-top: -30px !important;}&#8221;][/vc_column][vc_column width=&#8221;1/2&#8243;][vc_column_text] Soyez des nôtres! [/vc_column_text][vc_single_image[..]
URL:https://www.ccilaval.qc.ca/events/midimag-comment-negocier-un-bail-commercial-ou-industriel/
END:VEVENT
END:VCALENDAR